BEGIN:VCALENDAR
VERSION:2.0
PRODID:-//360 Alumni//Students on Ice Foundation//EN
METHOD:REQUEST
BEGIN:VEVENT
UID:9165
DTSTAMP:20220316T200000Z
DTSTART:20220316T200000Z
DTEND:20220316T213000Z
LOCATION:online event
SUMMARY: Defending Mother Earth – Indigenous Women at the Forefront for Action
DESCRIPTION: You are invited to join our virtual Parallel Event of the United Nation&rsquo;s NGO CSW66 Forum.Featuring: Autumn Peltier, Judy DaSilva, Pam Palmater, Sheila Watt-Cloutier, Winona LaDuke, and Cora McGuire-Cyrette (Moderator)Listen to a panel of land, water, and air defenders share their knowledge, leadership, and expertise as Indigenous women defending Mother Earth.Indigenous women are disproportionately affected by environmental degradation. This is connected with, and exacerbates, violence, exploitation, health, and security risks; resulting in devastating impacts on communities and innumerable human rights violations. Indigenous women are uniquely positioned to share their knowledge and expertise on these impacts, as well as tactics and strategies for resistance and remediation. Panelists will speak to the catastrophic impacts of environmental destruction, different strategies for resistance, and how feminist allies can support Indigenous women in this crucial work defending Mother Earth.Be part of the conversation by registering now to participate, or watch live on ONWA&rsquo;s (@ONWA7) or CRIAW's (@criaw.icref) Facebook.TimeMar 16, 2022 04:00 PM in&nbsp;Eastern Time (US and Canada)&nbsp;https://us02web.zoom.us/meeting/register/tZwoduytqD0pHdRAHKQnO8_iHWTzX4mx-u5w
END:VEVENT
END:VCALENDAR
