BEGIN:VCALENDAR
VERSION:2.0
PRODID:-//360 Alumni//Students on Ice Foundation//EN
METHOD:REQUEST
BEGIN:VEVENT
UID:9576
DTSTAMP:20220928T140000Z
DTSTART:20220928T140000Z
DTEND:20220928T200000Z
LOCATION:Aqsarniit Hotel & Conference Centre
SUMMARY: Indigenous Youth Voices & the UNDRIP engagement forum
DESCRIPTION: Over the next few months, CRE will be hosting an engagement on the Action Plan to Achieve the Objectives of the United Nations Declaration on the Rights of Indigenous Peoples (UNDRIP) Act.As part of this engagement, CRE will be hosting an in-person forum in Iqaluit, Nunavut in partnership with Ivviulutit.There is no experience necessary, and all engagement activities are open to Indigenous youth (First Nation, Metis, and/or Inuit) who are between the ages of 18 and 29.$500 honoraria and lunch provided. The deadline to register is September 18th.See our website for more details: https://canadianroots.ca/in-person-forum-iqaluit-nu-sign.../
END:VEVENT
END:VCALENDAR
